Workbook

Sheet Income Statement (Y)
A1: Currency | B1: Unit | C1: Description | D1: FY 18 | E1: FY 19 | F1: FY 20 | G1: FY 21 | H1: FY 22 | I1: FY 23 | J1: FY 24
C2: Period Ended On (MM/DD/YYYY) | D2: 12/31/2018 | E2: 12/31/2019 | F2: 12/31/2020 | G2: 12/31/2021 | H2: 12/31/2022 | I2: 12/31/2023 | J2: 12/31/2024
C3: Reported Date (MM/DD/YYYY) | D3: 03/27/2019 | E3: 03/27/2020 | F3: 03/26/2021 | G3: 03/08/2022 | H3: 03/31/2023 | I3: 03/15/2024 | J3: 03/13/2025
A4: $ | B4: Thousands | C4: Retail revenue | D4: 1.2234218e+09 | E4: 1220367856 | F4: 1092988076 | G4: 1739325124 | H4: 1.6059074e+09 | I4: 1405572961 | J4: 1540497874
A5: $ | B5: Thousands | C5: Bank revenue | D5: 4.5292366e+08 | E5: 483846431 | F5: 3.8783048e+08 | G5: 301761054 | H5: 4.3651064e+08 | I5: 482320405 | J5: 488459672
A6: $ | B6: Thousands | C6: Real estate revenues | D6: 24656334 | E6: 23211521 | F6: 17848295 | G6: 21109905 | H6: 32283372 | I6: 38524404 | J6: 57871712
A7: $ | B7: Thousands | C7: Total revenue | D7: 1.7010018e+09 | E7: 1727425808 | F7: 1.4986669e+09 | G7: 2062196083 | H7: 2.0747015e+09 | I7: 1926417770 | J7: 2086829258
A8: $ | B8: Thousands | C8: Cost of sales retail | D8: -9.0731288e+08 | E8: -906097783 | F8: -850622274 | G8: -1278585657 | H8: -1.1952511e+09 | I8: -1054932942 | J8: -1115165332
A9: $ | B9: Thousands | C9: Cost of sales bank | D9: -1.6530857e+08 | E9: -212700129 | F9: -1.9025043e+08 | G9: -93615656 | H9: -2.571458e+08 | I9: -331870115 | J9: -247285370
A10: $ | B10: Thousands | C10: Interest and indexation expense | D10: -45922334 | E10: -49713327 | F10: -41323406 | G10: -25487609 | H10: -78601390 | I10: -104204015 | J10: -76527495
A11: $ | B11: Thousands | C11: Cost of risk, net | D11: -1.0607917e+08 | E11: -144110346 | F11: -128211727 | G11: -45268737 | H11: -1.5116959e+08 | I11: -195143522 | J11: -139310889
A12: $ | B12: Thousands | C12: Other | D12: -13307062 | E12: -18876456 | F12: -20715296 | G12: -22859310 | H12: -27374822 | I12: -32522578 | J12: -31446986
A13: $ | B13: Thousands | C13: Real estate costs | D13: 0 | E13: 0 | F13: 0 | G13: 0 | H13: 0 | I13: -6906632 | J13: -8979829
A14: $ | B14: Thousands | C14: Total cost of sales | D14: -1.0726214e+09 | E14: -1118797912 | F14: -1.0408727e+09 | G14: -1.3722013e+09 | H14: -1.4523969e+09 | I14: -1393709689 | J14: -1371430531
A15: $ | B15: Thousands | C15: Gross margin retail | D15: 3.1610893e+08 | E15: 314270073 | F15: 242365802 | G15: 460739467 | H15: 4.1065634e+08 | I15: 350640019 | J15: 425332542
... A35: $ | B35: Thousands | C35: EBITDA: Operating result plus depreciation and amortization | D35: 1.1529095e+08 | E35: 101927649 | F35: 17911240 | G35: 1.9861959e+08 | H35: 85304862 | I35: -17123982 | J35: 173240926

Sheet Income Statement (Q)
A1: Currency | B1: Unit | C1: Description | D1: Q1 18 | E1: Q2 18 | F1: Q3 18 | G1: Q4 18 | H1: Q1 19 | I1: Q2 19 | J1: Q3 19 | K1: Q4 19 | L1: Q1 20 | M1: Q2 20 | N1: Q3 20 | O1: Q4 20 | P1: Q1 21 | Q1: Q2 21 | R1: Q3 21 | S1: Q4 21 | T1: Q1 22 | U1: Q2 22 | V1: Q3 22 | W1: Q4 22 | X1: Q1 23 | Y1: Q2 23 | Z1: Q3 23 | AA1: Q4 23 | AB1: Q1 24 | AC1: Q2 24 | AD1: Q3 24 | AE1: Q4 24
C2: Period Ended On (MM/DD/YYYY) | D2: 03/31/2018 | E2: 06/30/2018 | F2: 09/30/2018 | G2: 12/31/2018 | H2: 03/31/2019 | I2: 06/30/2019 | J2: 09/30/2019 | K2: 12/31/2019 | L2: 03/31/2020 | M2: 06/30/2020 | N2: 09/30/2020 | O2: 12/31/2020 | P2: 03/31/2021 | Q2: 06/30/2021 | R2: 09/30/2021 | S2: 12/31/2021 | T2: 03/31/2022 | U2: 06/30/2022 | V2: 09/30/2022 | W2: 12/31/2022 | X2: 03/31/2023 | Y2: 06/30/2023 | Z2: 09/30/2023 | AA2: 12/31/2023 | AB2: 03/31/2024 | AC2: 06/30/2024 | AD2: 09/30/2024 | AE2: 12/31/2023
C3: Reported Date (MM/DD/YYYY) | D3: 05/31/2018 | E3: 08/30/2018 | F3: 11/30/2018 | G3: 03/27/2019 | H3: 05/31/2019 | I3: 08/30/2019 | J3: 11/30/2019 | K3: 03/27/2020 | L3: 05/30/2020 | M3: 08/28/2020 | N3: 11/27/2020 | O3: 03/26/2021 | P3: 05/28/2021 | Q3: 08/27/2021 | R3: 11/26/2021 | S3: 03/08/2022 | T3: 05/24/2022 | U3: 08/24/2022 | V3: 11/22/2022 | W3: 03/31/2023 | X3: 05/26/2023 | Y3: 09/01/2023 | Z3: 11/24/2023 | AA3: 03/15/2024 | AB3: 05/15/2024 | AC3: 08/28/2024 | AD3: 11/13/2024 | AE3: 03/13/2025
A4: $ | B4: Thousands | C4: Retail revenue | D4: 256344133 | E4: 315247911 | F4: 2.6755135e+08 | G4: 384278411 | H4: 266646077 | I4: 315353091 | J4: 274330188 | K4: 364038500 | L4: 232064974 | M4: 105928029 | N4: 285605817 | O4: 469389256 | P4: 301857450 | Q4: 382191405 | R4: 472402579 | S4: 582873690 | T4: 354990016 | U4: 400866713 | V4: 353594563 | W4: 4.9645616e+08 | X4: 308647525 | Y4: 343667265 | Z4: 300333108 | AA4: 452925062 | AB4: 321038451 | AC4: 380501105 | AD4: 3.3402207e+08 | AE4: 504936245
A5: $ | B5: Thousands | C5: Bank revenue | D5: 110932802 | E5: 113804310 | F5: 1.1343186e+08 | G5: 114754686 | H5: 118328210 | I5: 122333905 | J5: 122508409 | K5: 120675907 | L5: 120809187 | M5: 101129082 | N5: 88264235 | O5: 77627979 | P5: 70560828 | Q5: 69016936 | R5: 76320636 | S5: 85862654 | T5: 96182613 | U5: 106864635 | V5: 108427267 | W5: 1.2503612e+08 | X5: 116147244 | Y5: 118847849 | Z5: 120700669 | AA5: 126624635 | AB5: 125655691 | AC5: 119429991 | AD5: 1.1952067e+08 | AE5: 123853318
A6: $ | B6: Thousands | C6: Real estate revenues | D6: 5385797 | E6: 5633998 | F6: 5431934.7 | G6: 8204604 | H6: 5814417 | I6: 6110266 | J6: 5197351 | K6: 6089487 | L6: 5174023 | M6: 3178938 | N6: 2406391 | O6: 7088943 | P6: 3508418 | Q6: 4373441 | R6: 4242693 | S6: 8985353 | T6: 6416952 | U6: 7043782 | V6: 7968336 | W6: 10854302 | X6: 7893574 | Y6: 8103351 | Z6: 9354046 | AA6: 13173442 | AB6: 14293260 | AC6: 14106054 | AD6: 14159406 | AE6: 15312991
A7: $ | B7: Thousands | C7: Total revenue | D7: 372662732 | E7: 434686219 | F7: 3.8641515e+08 | G7: 507237701 | H7: 390788704 | I7: 443797262 | J7: 402035948 | K7: 490803894 | L7: 358048184 | M7: 210236049 | N7: 3.7627644e+08 | O7: 554106178 | P7: 375926696 | Q7: 4.5558178e+08 | R7: 5.5296591e+08 | S7: 677721697 | T7: 457589581 | U7: 514775130 | V7: 469990166 | W7: 6.3234658e+08 | X7: 432688343 | Y7: 470618465 | Z7: 430387823 | AA7: 592723139 | AB7: 460987402 | AC7: 514037150 | AD7: 4.6770215e+08 | AE7: 644102554
A8: $ | B8: Thousands | C8: Cost of sales retail | D8: -190548104 | E8: -230572908 | F8: -2.1142533e+08 | G8: -274766540 | H8: -199709167 | I8: -233269124 | J8: -210381942 | K8: -262737550 | L8: -175060258 | M8: -91578008 | N8: -240244871 | O8: -343739137 | P8: -233732731 | Q8: -292588111 | R8: -348029169 | S8: -404235646 | T8: -262059587 | U8: -299648504 | V8: -270692893 | W8: -3.6285013e+08 | X8: -239259199 | Y8: -257938061 | Z8: -228936361 | AA8: -328799321 | AB8: -240172883 | AC8: -274971700 | AD8: -2.4929059e+08 | AE8: -350730156
A9: $ | B9: Thousands | C9: Cost of sales bank | D9: -40908569 | E9: -40486219 | F9: -39249915 | G9: -44663865 | H9: -47122412 | I9: -50255093 | J9: -50127628 | K9: -65194996 | L9: -61051362 | M9: -65580273 | N9: -34328842 | O9: -29289952 | P9: -21528369 | Q9: -17650184 | R9: -17994618 | S9: -36442485 | T9: -44589348 | U9: -59396239 | V9: -69782554 | W9: -83377656 | X9: -75866786 | Y9: -86372412 | Z9: -82840440 | AA9: -86790477 | AB9: -73889077 | AC9: -65990339 | AD9: -51678311 | AE9: -55727643
A10: $ | B10: Thousands | C10: Interest and indexation expense | D10: -10217520 | E10: -12237777 | F10: -11609021 | G10: -11858015 | H10: -11626967 | I10: -13096907 | J10: -12559994 | K10: -12429459 | L10: -12453072 | M10: -11246206 | N10: -9274381.1 | O10: -8349747.2 | P10: -7210367.8 | Q10: -5866509.6 | R10: -5139887.9 | S10: -7270843.3 | T10: -11172995 | U10: -18443904 | V10: -23264619 | W10: -25719872 | X10: -25782221 | Y10: -27792852 | Z10: -25556387 | AA10: -25072555 | AB10: -22263834 | AC10: -20379966 | AD10: -18017457 | AE10: -15866236
A11: $ | B11: Thousands | C11: Cost of risk, net | D11: -26893791 | E11: -24312454 | F11: -24901990 | G11: -29970937 | H11: -31141664 | I11: -32232459 | J11: -32651465 | K11: -48084758 | L11: -43091339 | M11: -50023541 | N11: -19744053 | O11: -15352794 | P11: -8694474 | Q11: -5854059 | R11: -7289016 | S11: -23431188 | T11: -27526666 | U11: -33667251 | V11: -39118572 | W11: -50857097 | X11: -42533347 | Y11: -50885021 | Z11: -48855597 | AA11: -52869557 | AB11: -43335158 | AC11: -37019987 | AD11: -26786252 | AE11: -32169491
A12: $ | B12: Thousands | C12: Other | D12: -3797257.6 | E12: -3935987.9 | F12: -2738903.5 | G12: -2834913.2 | H12: -4353780.7 | I12: -4925727.3 | J12: -4916169 | K12: -4680779 | L12: -5506951 | M12: -4310526.2 | N12: -5310408.2 | O12: -5587410.8 | P12: -5623527.2 | Q12: -5929614.9 | R12: -5565714.2 | S12: -5740453.7 | T12: -5889687 | U12: -7285084.6 | V12: -7399363 | W12: -6800687.4 | X12: -7551218 | Y12: -7694538.7 | Z12: -8428456 | AA12: -8848365.1 | AB12: -8290084.8 | AC12: -8590386 | AD12: -6874601.1 | AE12: -7691915.6
A13: $ | B13: Thousands | C13: Real estate costs | D13: 0 | E13: 0 | F13: 0 | G13: 0 | H13: 0 | I13: 0 | J13: 0 | K13: 0 | L13: 0 | M13: 0 | N13: 0 | O13: 0 | P13: 0 | Q13: 0 | R13: 0 | S13: 0 | T13: 0 | U13: 0 | V13: 0 | W13: 0 | X13: -985882.79 | Y13: -1038531 | Z13: 0 | AA13: -3582395.7 | AB13: -1827503 | AC13: -1487577 | AD13: -1537848 | AE13: -4126901
A14: $ | B14: Thousands | C14: Total cost of sales | D14: -231456673 | E14: -271059127 | F14: -2.5067524e+08 | G14: -319430405 | H14: -246831579 | I14: -283524217 | J14: -260509570 | K14: -327932546 | L14: -236111620 | M14: -157158281 | N14: -2.7457371e+08 | O14: -373029089 | P14: -255261100 | Q14: -3.1023829e+08 | R14: -3.6602379e+08 | S14: -440678131 | T14: -306648935 | U14: -3.5904474e+08 | V14: -340475447 | W14: -4.4622778e+08 | X14: -3.1611187e+08 | Y14: -3.45349e+08 | Z14: -311776801 | AA14: -4.1917219e+08 | AB14: -315889463 | AC14: -342449616 | AD14: -3.0250675e+08 | AE14: -410584700
A15: $ | B15: Thousands | C15: Gross margin retail | D15: 65796029 | E15: 84675003 | F15: 56126023 | G15: 109511871 | H15: 66936910 | I15: 82083967 | J15: 63948246 | K15: 101300950 | L15: 57004716 | M15: 14350021 | N15: 45360946 | O15: 125650119 | P15: 68124719 | Q15: 89603294 | R15: 124373410 | S15: 178638044 | T15: 92930429 | U15: 101218209 | V15: 82901670 | W15: 1.3360603e+08 | X15: 69388326 | Y15: 85729204 | Z15: 71396747 | AA15: 124125741 | AB15: 80865568 | AC15: 105529405 | AD15: 84731482 | AE15: 154206089
... A35: $ | B35: Thousands | C35: EBITDA: Operating result plus depreciation and amortization | D35: 22524600 | E35: 33551561 | F35: 17266067 | G35: 41948725 | H35: 28131957 | I35: 37766681 | J35: 22824637 | K35: 13204375 | L35: 11701758 | M35: -31362016 | N35: -556128 | O35: 38127626 | P35: 13472115 | Q35: 35133076 | R35: 66007119 | S35: 84007282 | T35: 27673426 | U35: 21880697 | V35: -1799007 | W35: 37549746 | X35: -12066140 | Y35: -6346828.9 | Z35: -13593113 | AA35: 14891233 | AB35: 22089829 | AC35: 39807227 | AD35: 31639106 | AE35: 79704769

Sheet Balance Sheet (Y)
A1: Currency | B1: Unit | C1: Description | D1: FY 18 | E1: FY 19 | F1: FY 20 | G1: FY 21 | H1: FY 22 | I1: FY 23 | J1: FY 24
C2: Period Ended On (MM/DD/YYYY) | D2: 12/31/2018 | E2: 12/31/2019 | F2: 12/31/2020 | G2: 12/31/2021 | H2: 12/31/2022 | I2: 12/31/2023 | J2: 12/31/2024
C3: Reported Date (MM/DD/YYYY) | D3: 03/27/2019 | E3: 03/27/2020 | F3: 03/26/2021 | G3: 03/08/2022 | H3: 03/31/2023 | I3: 03/15/2024 | J3: 03/13/2025
C4: Assets
C5: Current Assets
A6: $ | B6: Thousands | C6: Cash and cash equivalents and other financial assets | D6: 264117602 | E6: 393063524 | F6: 7.6860398e+08 | G6: 535390649 | H6: 437132358 | I6: =+'[1]Activo (new)'!E10+'[1]Activo (new)'!E11 -> 368123140 | J6: =+'[1]Activo (new)'!C10+'[1]Activo (new)'!C11 -> 370209726
A7: $ | B7: Thousands | C7: Other non-financial assets | D7: 11221723 | E7: 9251422 | F7: 10668516 | G7: 22446010 | H7: 16801843 | I7: =+'[1]Activo (new)'!E12 -> 18285844 | J7: =+'[1]Activo (new)'!C12 -> 26252053
A8: $ | B8: Thousands | C8: Trade and other payables net | D8: 788649733 | E8: 832032336 | F8: 6.0810517e+08 | G8: 664944100 | H8: 779981399 | I8: =+'[1]Activo (new)'!E13 -> 772097972 | J8: =+'[1]Activo (new)'!C13 -> 805923607
A9: $ | B9: Thousands | C9: Accounts receivable from related entities | D9: 5188446 | E9: 1435081 | F9: 37732 | G9: 502795 | H9: 49655 | I9: =+'[1]Activo (new)'!E14 -> 49655 | J9: =+'[1]Activo (new)'!C14 -> 49653
A10: $ | B10: Thousands | C10: Inventories | D10: 290329422 | E10: 278861232 | F10: 264222889 | G10: 350247522 | H10: 368748336 | I10: =+'[1]Activo (new)'!E15 -> 310547978 | J10: =+'[1]Activo (new)'!C15 -> 342818121
A11: $ | B11: Thousands | C11: Tax assets | D11: 26720438 | E11: 69131336 | F11: 37685367 | G11: 40054188 | H11: 44890697 | I11: =+'[1]Activo (new)'!E16 -> 46236838 | J11: =+'[1]Activo (new)'!C16 -> 32999288
A12: $ | B12: Thousands | C12: Total current assets before assets classified as held for sale | D12: 1386227364 | E12: 1583774931 | F12: 1689323653 | G12: 1613585264 | H12: 1647604288 | I12: =+SUM(I6:I11) -> 1515341427 | J12: =+SUM(J6:J11) -> 1578252448
A13: $ | B13: Thousands | C13: Current assets classified as held for sale | D13: 47141386 | E13: 9748863 | F13: 0 | G13: 0 | H13: 161724991 | I13: 0 | J13: 0
A14: $ | B14: Thousands | C14: Total current assets | D14: 1433368750 | E14: 1593523794 | F14: 1689323653 | G14: 1613585264 | H14: 1809329279 | I14: =+I12 -> 1515341427 | J14: =+J12 -> 1578252448
C15: Non-current Assets
A16: $ | B16: Thousands | C16: Other financial assets | D16: 48375144 | E16: 96069836 | F16: 58754728 | G16: 62443768 | H16: 132459569 | I16: =+'[1]Activo (new)'!E23 -> 158549031 | J16: =+'[1]Activo (new)'!C23 -> 186987605
A17: $ | B17: Thousands | C17: Other non-financial assets | D17: 11395134 | E17: 4234156 | F17: 8241835 | G17: 10100158 | H17: 10866376 | I17: =+'[1]Activo (new)'!E24 -> 11370817 | J17: =+'[1]Activo (new)'!C24 -> 12444887
A18: $ | B18: Thousands | C18: Trade and other payables | D18: 453391513 | E18: 467990883 | F18: 342429458 | G18: 397908897 | H18: 490598869 | I18: =+'[1]Activo (new)'!E25 -> 431786298 | J18: =+'[1]Activo (new)'!C25 -> 485168965
A19: $ | B19: Thousands | C19: Investments in associates | D19: 248247467 | E19: 270691351 | F19: 254428936 | G19: 259209920 | H19: 122742508 | I19: =+'[1]Activo (new)'!E27 -> 142821150 | J19: =+'[1]Activo (new)'!C27 -> 151185255
A20: $ | B20: Thousands | C20: Intangible assets other than goodwill | D20: 73346334 | E20: 76444489 | F20: 71392902 | G20: 78803601 | H20: 88850103 | I20: =+'[1]Activo (new)'!E28 -> 100236892 | J20: =+'[1]Activo (new)'!C28 -> 105380349
A21: $ | B21: Thousands | C21: Goodwill property plant and equipment and investment properties | D21: 578378765 | E21: 612506934 | F21: 601904919 | G21: 637351983 | H21: 692063174 | I21: =+'[1]Activo (new)'!E29+'[1]Activo (new)'!E30+'[1]Activo (new)'!E32 -> 802631282 | J21: =+'[1]Activo (new)'!C29+'[1]Activo (new)'!C30+'[1]Activo (new)'!C32 -> 878273532
A22: $ | B22: Thousands | C22: Rights of use | D22: 0 | E22: 342601743 | F22: 316351965 | G22: 322198867 | H22: 323189341 | I22: =+'[1]Activo (new)'!E31 -> 344947197 | J22: =+'[1]Activo (new)'!C31 -> 313895651
A23: $ | B23: Thousands | C23: Deferred tax assets | D23: 106253410 | E23: 145255546 | F23: 174226659 | G23: 155433517 | H23: 195180772 | I23: =+'[1]Activo (new)'!E33 -> 228591035 | J23: =+'[1]Activo (new)'!C33 -> 232562793
A24: $ | B24: Thousands | C24: Total non-current assets | D24: 1519387767 | E24: 2015794938 | F24: 1827731402 | G24: 1923450711 | H24: 2055950712 | I24: =+SUM(I16:I23) -> 2220933702 | J24: =+SUM(J16:J23) -> 2365899037
A25: $ | B25: Thousands | C25: Total assets | D25: 2952756517 | E25: 3609318732 | F25: 3517055055 | G25: 3537035975 | H25: 3865279991 | I25: =+I24+I14 -> 3736275129 | J25: =+J24+J14 -> 3944151485
C26: Current Liabilities
A27: $ | B27: Thousands | C27: Other financial liabilities | D27: 822726141 | E27: 964179060 | F27: 1065484558 | G27: 937987157 | H27: 1118739018 | I27: =+'[1]Pasivo (new)'!E10 -> 1225901322 | J27: =+'[1]Pasivo (new)'!C10 -> 1228354649
A28: $ | B28: Thousands | C28: Lease liabilities | D28: 0 | E28: 29229836 | F28: 32197778 | G28: 39250898 | H28: 40261505 | I28: =+'[1]Pasivo (new)'!E11 -> 53477569 | J28: =+'[1]Pasivo (new)'!C11 -> 50299936
A29: $ | B29: Thousands | C29: Trade and other payables | D29: 354953547 | E29: 349896202 | F29: 394181348 | G29: 500790869 | H29: 469484458 | I29: =+'[1]Pasivo (new)'!E12 -> 454852383 | J29: =+'[1]Pasivo (new)'!C12 -> 498503296
A30: $ | B30: Thousands | C30: Accounts payable to related entities | D30: 17795563 | E30: 25909590 | F30: 4747679 | G30: 4931964 | H30: 5031150 | I30: =+'[1]Pasivo (new)'!E13 -> 1770990 | J30: =+'[1]Pasivo (new)'!C13 -> 14001201
A31: $ | B31: Thousands | C31: Other provisions | D31: 18581790 | E31: 36749635 | F31: 37315423 | G31: 33041763 | H31: 30296891 | I31: =+'[1]Pasivo (new)'!E14 -> 33553352 | J31: =+'[1]Pasivo (new)'!C14 -> 22668401
A32: $ | B32: Thousands | C32: Tax liabilities | D32: 8323272 | E32: 7452440 | F32: 3658650 | G32: 6801472 | H32: 1300078 | I32: =+'[1]Pasivo (new)'!E15 -> 368477 | J32: =+'[1]Pasivo (new)'!C15 -> 4824292
A33: $ | B33: Thousands | C33: Other passives | D33: 25593581 | E33: 25532611 | F33: 33068084 | G33: 33860401 | H33: 29468453 | I33: =+'[1]Pasivo (new)'!E16+'[1]Pasivo (new)'!E17 -> 26952308 | J33: =+'[1]Pasivo (new)'!C16+'[1]Pasivo (new)'!C17 -> 27044726
A34: $ | B34: Thousands | C34: Total current liabilities before classified as held for sale | D34: 1247973894 | E34: 1438949374 | F34: 1570653520 | G34: 1556664524 | H34: 1694581553 | I34: =+SUM(I27:I33) -> 1796876401 | J34: =+SUM(J27:J33) -> 1845696501
A35: $ | B35: Thousands | C35: Current liabilities classified as held for sale | D35: 219405 | E35: 391113 | F35: 0 | G35: 0 | H35: 0 | I35: 0 | J35: 0
A36: $ | B36: Thousands | C36: Total current liabilities | D36: 1248193299 | E36: 1439340487 | F36: 1570653520 | G36: 1556664524 | H36: 1694581553 | I36: =+I34 -> 1796876401 | J36: =+J34 -> 1845696501
C37: Non-current Liabilities
A38: $ | B38: Thousands | C38: Other financial liabilities | D38: 647217370 | E38: 606350406 | F38: 519314805 | G38: 455947883 | H38: 582826558 | I38: =+'[1]Pasivo (new)'!E23 -> 364356911 | J38: =+'[1]Pasivo (new)'!C23 -> 448896738
A39: $ | B39: Thousands | C39: Lease liabilities | D39: 0 | E39: 359230726 | F39: 349057727 | G39: 356206431 | H39: 387659813 | I39: =+'[1]Pasivo (new)'!E24 -> 473283805 | J39: =+'[1]Pasivo (new)'!C24 -> 428228550
A40: $ | B40: Thousands | C40: Accounts payable | D40: 177915 | E40: 1316230 | F40: 874755 | G40: 469176 | H40: 265500 | I40: =+'[1]Pasivo (new)'!E25 -> 164203 | J40: =+'[1]Pasivo (new)'!C25 -> 254485
...

Sheet Balance Sheet (Q)
A1: Currency | B1: Unit | C1: Description | D1: Q1 18 | E1: Q2 18 | F1: Q3 18 | G1: Q4 18 | H1: Q1 19 | I1: Q2 19 | J1: Q3 19 | K1: Q4 19 | L1: Q1 20 | M1: Q2 20 | N1: Q3 20 | O1: Q4 20 | P1: Q1 21 | Q1: Q2 21 | R1: Q3 21 | S1: Q4 21 | T1: Q1 22 | U1: Q2 22 | V1: Q3 22 | W1: Q4 22 | X1: Q1 23 | Y1: Q2 23 | Z1: Q3 23 | AA1: Q4 23 | AB1: Q1 24 | AC1: Q2 24 | AD1: Q3 24 | AE1: Q4 24
C2: Period Ended On (MM/DD/YYYY) | D2: 03/31/2018 | E2: 06/30/2018 | F2: 09/30/2018 | G2: 12/31/2018 | H2: 03/31/2019 | I2: 06/30/2019 | J2: 09/30/2019 | K2: 12/31/2019 | L2: 03/31/2020 | M2: 06/30/2020 | N2: 09/30/2020 | O2: 12/31/2020 | P2: 03/31/2021 | Q2: 06/30/2021 | R2: 09/30/2021 | S2: 12/31/2021 | T2: 03/31/2022 | U2: 06/30/2022 | V2: 09/30/2022 | W2: 12/31/2022 | X2: 03/31/2023 | Y2: 06/30/2023 | Z2: 09/30/2023 | AA2: 12/31/2023 | AB2: 03/31/2024 | AC2: 06/30/2024 | AD2: 09/30/2024 | AE2: 12/31/2023
C3: Reported Date (MM/DD/YYYY) | D3: 05/31/2018 | E3: 08/30/2018 | F3: 11/30/2018 | G3: 03/27/2019 | H3: 05/31/2019 | I3: 08/30/2019 | J3: 11/30/2019 | K3: 03/27/2020 | L3: 05/30/2020 | M3: 08/28/2020 | N3: 11/27/2020 | O3: 03/26/2021 | P3: 05/28/2021 | Q3: 08/27/2021 | R3: 11/26/2021 | S3: 03/08/2022 | T3: 05/24/2022 | U3: 08/24/2022 | V3: 11/22/2022 | W3: 03/31/2023 | X3: 05/26/2023 | Y3: 09/01/2023 | Z3: 11/24/2023 | AA3: 03/15/2024 | AB3: 05/15/2024 | AC3: 08/28/2024 | AD3: 11/13/2024 | AE3: 03/13/2025
C4: Assets
C5: Current Assets
A6: $ | B6: Thousands | C6: Cash and cash equivalents and other financial assets | D6: 201398935 | E6: 244476732 | F6: 243772158 | G6: 264117602 | H6: 264607755 | I6: 237660591 | J6: 312263218 | K6: 393063524 | L6: 360238854 | M6: 494438123 | N6: 678650535 | O6: 7.6860398e+08 | P6: 710409534 | Q6: 686817793 | R6: 647412733 | S6: 535390649 | T6: 393778162 | U6: 477826580 | V6: 417961935 | W6: 437132358 | X6: 371786027 | Y6: 396240601 | Z6: 350250364 | AA6: 368123140 | AB6: 371049837 | AC6: 275424549 | AD6: 321030440 | AE6: =+'Balance Sheet (Y)'!J6 -> 370209726
A7: $ | B7: Thousands | C7: Other non-financial assets | D7: 9271166 | E7: 10374262 | F7: 10602154 | G7: 11221723 | H7: 13844075 | I7: 11163671 | J7: 10768562 | K7: 9251422 | L7: 11166861 | M7: 9428352 | N7: 7571357 | O7: 10668516 | P7: 10633368 | Q7: 10983406 | R7: 19961626 | S7: 22446010 | T7: 22098759 | U7: 22037347 | V7: 23228933 | W7: 16801843 | X7: 18714750 | Y7: 14501757 | Z7: 13731529 | AA7: 18285844 | AB7: 22085502 | AC7: 16361471 | AD7: 18764625 | AE7: =+'Balance Sheet (Y)'!J7 -> 26252053
A8: $ | B8: Thousands | C8: Trade and other payables net | D8: 731183776 | E8: 761720935 | F8: 744834748 | G8: 788649733 | H8: 824566745 | I8: 848466925 | J8: 819168914 | K8: 832032336 | L8: 808546347 | M8: 690888174 | N8: 598825034 | O8: 6.0810517e+08 | P8: 555685637 | Q8: 561406527 | R8: 567621654 | S8: 664944100 | T8: 688738535 | U8: 738329472 | V8: 729642513 | W8: 779981399 | X8: 896268190 | Y8: 731307644 | Z8: 715891287 | AA8: 772097972 | AB8: 733221999 | AC8: 726597313 | AD8: 729871880 | AE8: =+'Balance Sheet (Y)'!J8 -> 805923607
A9: $ | B9: Thousands | C9: Accounts receivable from related entities | D9: 4322423 | E9: 20371328 | F9: 1845543 | G9: 5188446 | H9: 5991408 | I9: 1317200 | J9: 2678112 | K9: 1435081 | L9: 1398024 | M9: 35664 | N9: 35730 | O9: 37732 | P9: 39753 | Q9: 41798 | R9: 43865 | S9: 502795 | T9: 504971 | U9: 49655 | V9: 49654 | W9: 49655 | X9: 49655 | Y9: 49655 | Z9: 49655 | AA9: 49656 | AB9: 49655 | AC9: 49655 | AD9: 49655 | AE9: =+'Balance Sheet (Y)'!J9 -> 49653
A10: $ | B10: Thousands | C10: Inventories | D10: 260535169 | E10: 266871140 | F10: 293089429 | G10: 290329422 | H10: 300492323 | I10: 289437256 | J10: 308036947 | K10: 278861232 | L10: 302486044 | M10: 297653667 | N10: 308062148 | O10: 264222889 | P10: 299847575 | Q10: 292584999 | R10: 346378822 | S10: 350247522 | T10: 405151235 | U10: 419357172 | V10: 453633490 | W10: 368748336 | X10: 368637162 | Y10: 331969961 | Z10: 363019732 | AA10: 310547978 | AB10: 355273019 | AC10: 343384436 | AD10: 372443414 | AE10: =+'Balance Sheet (Y)'!J10 -> 342818121
A11: $ | B11: Thousands | C11: Tax assets | D11: 31978172 | E11: 28575348 | F11: 27206840 | G11: 26720438 | H11: 27675196 | I11: 34814637 | J11: 37230961 | K11: 69131336 | L11: 69842072 | M11: 41418733 | N11: 23340816 | O11: 37685367 | P11: 37031123 | Q11: 22244267 | R11: 21995896 | S11: 40054188 | T11: 42580990 | U11: 24083100 | V11: 29981261 | W11: 44890697 | X11: 52630786 | Y11: 30764401 | Z11: 33341086 | AA11: 46236838 | AB11: 51360776 | AC11: 48743540 | AD11: 33178605 | AE11: =+'Balance Sheet (Y)'!J11 -> 32999288
A12: $ | B12: Thousands | C12: Total current assets before assets classified as held for sale | D12: 1238689641 | E12: 1332389745 | F12: 1321350872 | G12: 1386227364 | H12: 1437177502 | I12: 1422860280 | J12: 1490146714 | K12: 1583774931 | L12: 1553678202 | M12: 1533862713 | N12: 1616485620 | O12: 1689323653 | P12: 1613646990 | Q12: 1574078790 | R12: 1603414596 | S12: 1613585264 | T12: 1552852652 | U12: 1681683326 | V12: 1654497786 | W12: 1647604288 | X12: 1708086570 | Y12: 1504834019 | Z12: 1476283653 | AA12: 1515341428 | AB12: 1533040788 | AC12: 1410560964 | AD12: 1475338619 | AE12: =+'Balance Sheet (Y)'!J12 -> 1578252448
A13: $ | B13: Thousands | C13: Current assets classified as held for sale | D13: 51623489 | E13: 47236665 | F13: 47294854 | G13: 47141386 | H13: 47067268 | I13: 47160428 | J13: 47262312 | K13: 9748863 | L13: 7663662 | M13: 7663662 | N13: 186485411 | O13: 0 | P13: 168610786 | Q13: 168610786 | R13: 168610786 | S13: 0 | T13: 0 | U13: 0 | V13: 161724991 | W13: 161724991 | X13: 0 | Y13: 0 | Z13: 0 | AA13: 0 | AB13: 0 | AC13: 0 | AD13: 0 | AE13: =+'Balance Sheet (Y)'!J13 -> 0
A14: $ | B14: Thousands | C14: Total current assets | D14: 1290313130 | E14: 1379626410 | F14: 1368645726 | G14: 1433368750 | H14: 1484244770 | I14: 1470020708 | J14: 1537409026 | K14: 1593523794 | L14: 1561341864 | M14: 1541526375 | N14: 1802971031 | O14: 1689323653 | P14: 1782257776 | Q14: 1742689576 | R14: 1772025382 | S14: 1613585264 | T14: 1552852652 | U14: 1681683326 | V14: 1816222777 | W14: 1809329279 | X14: 1708086570 | Y14: 1504834019 | Z14: 1476283653 | AA14: 1515341428 | AB14: 1533040788 | AC14: 1410560964 | AD14: 1475338619 | AE14: =+'Balance Sheet (Y)'!J14 -> 1578252448
C15: Non-current Assets
A16: $ | B16: Thousands | C16: Other financial assets | D16: 43425737 | E16: 32951837 | F16: 30636436 | G16: 48375144 | H16: 58250485 | I16: 35930254 | J16: 79540907 | K16: 96069836 | L16: 123740374 | M16: 64238184 | N16: 58928082 | O16: 58754728 | P16: 49878338 | Q16: 66679949 | R16: 68528245 | S16: 62443768 | T16: 92434202 | U16: 106142513 | V16: 114372825 | W16: 132459569 | X16: 93573912 | Y16: 112125760 | Z16: 117315628 | AA16: 158549031 | AB16: 183784467 | AC16: 165439456 | AD16: 163991522 | AE16: =+'Balance Sheet (Y)'!J16 -> 186987605
A17: $ | B17: Thousands | C17: Other non-financial assets | D17: 15706562 | E17: 16513516 | F17: 16374135 | G17: 11395134 | H17: 6181791 | I17: 5435889 | J17: 4561292 | K17: 4234156 | L17: 4392947 | M17: 4042154 | N17: 4769008 | O17: 8241835 | P17: 7514661 | Q17: 8076198 | R17: 8596373 | S17: 10100158 | T17: 9604275 | U17: 10331054 | V17: 10614904 | W17: 10866376 | X17: 9839226 | Y17: 10156907 | Z17: 10715544 | AA17: 11370817 | AB17: 12501697 | AC17: 12546632 | AD17: 13314325 | AE17: =+'Balance Sheet (Y)'!J17 -> 12444887
A18: $ | B18: Thousands | C18: Trade and other payables | D18: 421325210 | E18: 428371079 | F18: 435009895 | G18: 453391513 | H18: 422444026 | I18: 423408449 | J18: 466717244 | K18: 467990883 | L18: 466931305 | M18: 426361806 | N18: 389404218 | O18: 342429458 | P18: 328445120 | Q18: 331690036 | R18: 344905720 | S18: 397908897 | T18: 429881523 | U18: 466356593 | V18: 466734883 | W18: 490598869 | X18: 469081298 | Y18: 458942197 | Z18: 447778804 | AA18: 431786298 | AB18: 452512831 | AC18: 435308977 | AD18: 406529576 | AE18: =+'Balance Sheet (Y)'!J18 -> 485168965
A19: $ | B19: Thousands | C19: Investments in associates | D19: 259877283 | E19: 233773993 | F19: 235788475 | G19: 248247467 | H19: 250949372 | I19: 250788036 | J19: 253503930 | K19: 270691351 | L19: 275755905 | M19: 272588096 | N19: 92091676 | O19: 254428936 | P19: 98250897 | Q19: 97662061 | R19: 98304702 | S19: 259209920 | T19: 261682695 | U19: 275217293 | V19: 116241901 | W19: 122742508 | X19: 124953898 | Y19: 127109443 | Z19: 132215652 | AA19: 142821150 | AB19: 146238755 | AC19: 148483483 | AD19: 144529979 | AE19: =+'Balance Sheet (Y)'!J19 -> 151185255
A20: $ | B20: Thousands | C20: Intangible assets other than goodwill | D20: 73678874 | E20: 74897735 | F20: 73385907 | G20: 73346334 | H20: 73112876 | I20: 72181955 | J20: 74220936 | K20: 76444489 | L20: 79235823 | M20: 77550184 | N20: 75403673 | O20: 71392902 | P20: 70930261 | Q20: 71827835 | R20: 73235467 | S20: 78803601 | T20: 79415802 | U20: 85470329 | V20: 88700054 | W20: 88850103 | X20: 88025356 | Y20: 93669537 | Z20: 96781720 | AA20: 100236892 | AB20: 104875909 | AC20: 102424054 | AD20: 103150603 | AE20: =+'Balance Sheet (Y)'!J20 -> 105380349
A21: $ | B21: Thousands | C21: Goodwill property plant and equipment and investment properties | D21: 524445894 | E21: 546406394 | F21: 554350614 | G21: 578378765 | H21: 555373928 | I21: 571373297 | J21: 527336135 | K21: 612506934 | L21: 669611511 | M21: 635644453 | N21: 607090936 | O21: 601904919 | P21: 585789317 | Q21: 571706019 | R21: 598331778 | S21: 637351983 | T21: 640417573 | U21: 707594638 | V21: 708449798 | W21: 692063174 | X21: 667236409 | Y21: 702541585 | Z21: 766031914 | AA21: 802631282 | AB21: 877228757 | AC21: 826916888 | AD21: 815430129 | AE21: =+'Balance Sheet (Y)'!J21 -> 878273532
A22: $ | B22: Thousands | C22: Rights of use | G22: 0 | H22: 338148831 | I22: 338315503 | J22: 346066614 | K22: 342601743 | L22: 349104350 | M22: 335979838 | N22: 325428564 | O22: 316351965 | P22: 313104590 | Q22: 310481660 | R22: 312097218 | S22: 322198867 | T22: 321264785 | U22: 340594057 | V22: 330586322 | W22: 323189341 | X22: 323342595 | Y22: 329215363 | Z22: 328888479 | AA22: 344947197 | AB22: 338313588 | AC22: 315076028 | AD22: 306860944 | AE22: =+'Balance Sheet (Y)'!J22 -> 313895651
A23: $ | B23: Thousands | C23: Deferred tax assets | D23: 82086642 | E23: 83128102 | F23: 90082323 | G23: 106253410 | H23: 126663850 | I23: 128431303 | J23: 120681239 | K23: 145255546 | L23: 161780329 | M23: 182531339 | N23: 184754979 | O23: 174226659 | P23: 184927480 | Q23: 181600850 | R23: 174239240 | S23: 155433517 | T23: 165425266 | U23: 182894989 | V23: 198806091 | W23: 195180772 | X23: 194361467 | Y23: 209801482 | Z23: 223662019 | AA23: 228591035 | AB23: 231847224 | AC23: 235315665 | AD23: 238967637 | AE23: =+'Balance Sheet (Y)'!J23 -> 232562793
A24: $ | B24: Thousands | C24: Total non-current assets | D24: 1420546202 | E24: 1416042656 | F24: 1435627785 | G24: 1519387767 | H24: 1831125159 | I24: 1825864686 | J24: 1872628297 | K24: 2015794938 | L24: 2130552544 | M24: 1998936054 | N24: 1737871136 | O24: 1827731402 | P24: 1638840664 | Q24: 1639724608 | R24: 1678238743 | S24: 1923450711 | T24: 2000126121 | U24: 2174601466 | V24: 2034506778 | W24: 2055950712 | X24: 1970414161 | Y24: 2043562274 | Z24: 2123389760 | AA24: 2220933702 | AB24: 2347303228 | AC24: 2241511183 | AD24: 2192774715 | AE24: =+'Balance Sheet (Y)'!J24 -> 2365899037
A25: $ | B25: Thousands | C25: Total assets | D25: 2710859332 | E25: 2795669066 | F25: 2804273511 | G25: 2952756517 | H25: 3315369929 | I25: 3295885394 | J25: 3410037323 | K25: 3609318732 | L25: 3691894408 | M25: 3540462429 | N25: 3540842167 | O25: 3517055055 | P25: 3421098440 | Q25: 3382414184 | R25: 3450264125 | S25: 3537035975 | T25: 3552978773 | U25: 3856284792 | V25: 3850729555 | W25: 3865279991 | X25: 3678500731 | Y25: 3548396293 | Z25: 3599673413 | AA25: 3736275130 | AB25: 3880344016 | AC25: 3652072147 | AD25: 3668113334 | AE25: =+'Balance Sheet (Y)'!J25 -> 3944151485
C26: Current Liabilities
A27: $ | B27: Thousands | C27: Other financial liabilities | D27: 726864420 | E27: 808925337 | F27: 760231081 | G27: 822726141 | H27: 934823344 | I27: 916954875 | J27: 971739866 | K27: 964179060 | L27: 1070328396 | M27: 1155674098 | N27: 1054775173 | O27: 1065484558 | P27: 1021279597 | Q27: 1025099651 | R27: 989150864 | S27: 937987157 | T27: 968841993 | U27: 1118648405 | V27: 1057058348 | W27: 1118739018 | X27: 1170365559 | Y27: 1148363361 | Z27: 1163996230 | AA27: 1225901323 | AB27: 1292040532 | AC27: 1253946514 | AD27: 1255167651 | AE27: =+'Balance Sheet (Y)'!J27 -> 1228354649
A28: $ | B28: Thousands | C28: Lease liabilities | G28: 0 | H28: 32664905 | I28: 27443195 | J28: 27268754 | K28: 29229836 | L28: 31485794 | M28: 31073922 | N28: 34682777 | O28: 32197778 | P28: 33517911 | Q28: 33782743 | R28: 36329611 | S28: 39250898 | T28: 37307517 | U28: 40275872 | V28: 40780512 | W28: 40261505 | X28: 45410272 | Y28: 47763558 | Z28: 50930687 | AA28: 53477569 | AB28: 57737382 | AC28: 53546163 | AD28: 67488459 | AE28: =+'Balance Sheet (Y)'!J28 -> 50299936
A29: $ | B29: Thousands | C29: Trade and other payables | D29: 281640072 | E29: 304567769 | F29: 281576431 | G29: 354953547 | H29: 290313229 | I29: 290573056 | J29: 293688260 | K29: 349896202 | L29: 272041489 | M29: 234820388 | N29: 334365708 | O29: 394181348 | P29: 332952979 | Q29: 368926715 | R29: 448538346 | S29: 500790869 | T29: 426356147 | U29: 436120528 | V29: 458806519 | W29: 469484458 | X29: 404942458 | Y29: 349225437 | Z29: 394318772 | AA29: 454852384 | AB29: 451891225 | AC29: 413965527 | AD29: 431267289 | AE29: =+'Balance Sheet (Y)'!J29 -> 498503296
A30: $ | B30: Thousands | C30: Accounts payable to related entities | D30: 20901656 | E30: 8648902 | F30: 10220566 | G30: 17795563 | H30: 21884998 | I30: 9756091 | J30: 30517029 | K30: 25909590 | L30: 25684004 | M30: 3994267 | N30: 4569748 | O30: 4747679 | P30: 4623509 | Q30: 4703240 | R30: 11793573 | S30: 4931964 | T30: 8181152 | U30: 10964571 | V30: 5075933 | W30: 5031150 | X30: 12191688 | Y30: 1699342 | Z30: 1721538 | AA30: 1770990 | AB30: 1799648 | AC30: 3606805 | AD30: 5439425 | AE30: =+'Balance Sheet (Y)'!J30 -> 14001201
A31: $ | B31: Thousands | C31: Other provisions | D31: 16027120 | E31: 17438680 | F31: 16970055 | G31: 18581790 | H31: 18647871 | I31: 19479796 | J31: 23641506 | K31: 36749635 | L31: 31385804 | M31: 33230816 | N31: 27349498 | O31: 37315423 | P31: 30000562 | Q31: 28516292 | R31: 27937739 | S31: 33041763 | T31: 28657847 | U31: 31541907 | V31: 40272167 | W31: 30296891 | X31: 23690568 | Y31: 21940807 | Z31: 22174156 | AA31: 33553352 | AB31: 26333407 | AC31: 23443281 | AD31: 23318254 | AE31: =+'Balance Sheet (Y)'!J31 -> 22668401
A32: $ | B32: Thousands | C32: Tax liabilities | D32: 10099035 | E32: 4789975 | F32: 5453853 | G32: 8323272 | H32: 6759276 | I32: 557360 | J32: 7062227 | K32: 7452440 | L32: 9836336 | M32: 5264396 | N32: 1118928 | O32: 3658650 | P32: 6105194 | Q32: 4762646 | R32: 5744615 | S32: 6801472 | T32: 8569401 | U32: 5265218 | V32: 3020064 | W32: 1300078 | X32: 1491704 | Y32: 133960 | Z32: 396005 | AA32: 368477 | AB32: 2104071 | AC32: 2982373 | AD32: 1105490 | AE32: =+'Balance Sheet (Y)'!J32 -> 4824292
A33: $ | B33: Thousands | C33: Other passives | D33: 22388635 | E33: 24645217 | F33: 24332586 | G33: 25593581 | H33: 23099958 | I33: 24483011 | J33: 25461642 | K33: 25532611 | L33: 25864486 | M33: 28600185 | N33: 29194861 | O33: 33068084 | P33: 30320934 | Q33: 35093694 | R33: 32841065 | S33: 33860401 | T33: 30379822 | U33: 32997784 | V33: 34260035 | W33: 29468453 | X33: 28771483 | Y33: 30992627 | Z33: 28904518 | AA33: 26952308 | AB33: 27575608 | AC33: 28679489 | AD33: 26157262 | AE33: =+'Balance Sheet (Y)'!J33 -> 27044726
A34: $ | B34: Thousands | C34: Total current liabilities before classified as held for sale | D34: 1077920938 | E34: 1169015880 | F34: 1098784572 | G34: 1247973894 | H34: 1328193581 | I34: 1289247384 | J34: 1379379284 | K34: 1438949374 | L34: 1466626309 | M34: 1492658072 | N34: 1486056693 | O34: 1570653520 | P34: 1458800686 | Q34: 1500884981 | R34: 1552335813 | S34: 1556664524 | T34: 1508293879 | U34: 1675814285 | V34: 1639273578 | W34: 1694581553 | X34: 1686863732 | Y34: 1600119092 | Z34: 1662441906 | AA34: 1796876403 | AB34: 1859481873 | AC34: 1780170152 | AD34: 1809943830 | AE34: =+'Balance Sheet (Y)'!J34 -> 1845696501
A35: $ | B35: Thousands | C35: Current liabilities classified as held for sale | D35: 388838 | E35: 398156 | F35: 398156 | G35: 219405 | H35: 215505 | I35: 217455 | J35: 214890 | K35: 391113 | L35: 0 | M35: 0 | N35: 0 | O35: 0 | P35: 0 | Q35: 0 | R35: 0 | S35: 0 | T35: 0 | U35: 0 | V35: 0 | W35: 0 | X35: 0 | Y35: 0 | Z35: 0 | AA35: 0 | AB35: 0 | AC35: 0 | AD35: 0 | AE35: =+'Balance Sheet (Y)'!J35 -> 0
A36: $ | B36: Thousands | C36: Total current liabilities | D36: 1078309776 | E36: 1169414036 | F36: 1099182728 | G36: 1248193299 | H36: 1328409086 | I36: 1289464839 | J36: 1379594174 | K36: 1439340487 | L36: 1466626309 | M36: 1492658072 | N36: 1486056693 | O36: 1570653520 | P36: 1458800686 | Q36: 1500884981 | R36: 1552335813 | S36: 1556664524 | T36: 1508293879 | U36: 1675814285 | V36: 1639273578 | W36: 1694581553 | X36: 1686863732 | Y36: 1600119092 | Z36: 1662441906 | AA36: 1796876403 | AB36: 1859481873 | AC36: 1780170152 | AD36: 1809943830 | AE36: =+'Balance Sheet (Y)'!J36 -> 1845696501
C37: Non-current Liabilities
A38: $ | B38: Thousands | C38: Other financial liabilities | D38: 635303686 | E38: 596874339 | F38: 668167733 | G38: 647217370 | H38: 584630503 | I38: 581251165 | J38: 536951418 | K38: 606350406 | L38: 596419024 | M38: 520420124 | N38: 593157973 | O38: 519314805 | P38: 550587345 | Q38: 484252593 | R38: 445892320 | S38: 455947883 | T38: 506674829 | U38: 538417401 | V38: 603896204 | W38: 582826558 | X38: 489051434 | Y38: 452762150 | Z38: 409609257 | AA38: 364356910 | AB38: 374527157 | AC38: 295726778 | AD38: 313247121 | AE38: =+'Balance Sheet (Y)'!J38 -> 448896738
A39: $ | B39: Thousands | C39: Lease liabilities | G39: 0 | H39: 303360079 | I39: 317828956 | J39: 334599392 | K39: 359230726 | L39: 383661396 | M39: 371268496 | N39: 359141328 | O39: 349057727 | P39: 344771117 | Q39: 339171710 | R39: 347018512 | S39: 356206431 | T39: 346754491 | U39: 378895055 | V39: 389961077 | W39: 387659813 | X39: 428458467 | Y39: 441839485 | Z39: 459116175 | AA39: 473283805 | AB39: 478371514 | AC39: 443977688 | AD39: 413708797 | AE39: =+'Balance Sheet (Y)'!J39 -> 428228550
A40: $ | B40: Thousands | C40: Accounts payable | D40: 97177 | E40: 156299 | F40: 36101 | G40: 177915 | H40: 357840 | I40: 680398 | J40: 262878 | K40: 1316230 | L40: 708181 | M40: 512782 | N40: 339987 | O40: 874755 | P40: 750619 | Q40: 599141 | R40: 565049 | S40: 469176 | T40: 421074 | U40: 487917 | V40: 3956029 | W40: 265500 | X40: 114264 | Y40: 200853 | Z40: 266031 | AA40: 164203 | AB40: 231448 | AC40: 239706 | AD40: 233332 | AE40: =+'Balance Sheet (Y)'!J40 -> 254485
...

Sheet Cash Flow(YTD)
A1: Currency | B1: Unit | C1: Description | D1: YTD Q1 18 | E1: YTD Q2 18 | F1: YTD Q3 18 | G1: YTD Q4 18 | H1: YTD Q1 19 | I1: YTD Q2 19 | J1: YTD Q3 19 | K1: YTD Q4 19 | L1: YTD Q1 20 | M1: YTD Q2 20 | N1: YTD Q3 20 | O1: YTD Q4 20 | P1: YTD Q1 21 | Q1: YTD Q2 21 | R1: YTD Q3 21 | S1: YTD Q4 21 | T1: YTD Q1 22 | U1: YTD Q2 22 | V1: YTD Q3 22 | W1: YTD Q4 22 | X1: YTD Q1 23 | Y1: YTD Q2 23 | Z1: YTD Q3 23 | AA1: YTD Q4 23 | AB1: YTD Q1 24 | AC1: YTD Q2 24 | AD1: YTD Q3 24 | AE1: YTD Q4 24
C2: Period Ended On (MM/DD/YYYY) | D2: 03/31/2018 | E2: 06/30/2018 | F2: 09/30/2018 | G2: 12/31/2018 | H2: 03/31/2019 | I2: 06/30/2019 | J2: 09/30/2019 | K2: 12/31/2019 | L2: 03/31/2020 | M2: 06/30/2020 | N2: 09/30/2020 | O2: 12/31/2020 | P2: 03/31/2021 | Q2: 06/30/2021 | R2: 09/30/2021 | S2: 12/31/2021 | T2: 03/31/2022 | U2: 06/30/2022 | V2: 09/30/2022 | W2: 12/31/2022 | X2: 03/31/2023 | Y2: 06/30/2023 | Z2: 09/30/2023 | AA2: 12/31/2023 | AB2: 03/31/2024 | AC2: 06/30/2024 | AD2: 09/30/2024 | AE2: 12/31/2024
C3: Reported Date (MM/DD/YYYY) | D3: 05/31/2018 | E3: 08/27/2018 | F3: 11/26/2018 | G3: 03/27/2019 | H3: 05/31/2019 | I3: 08/27/2019 | J3: 11/26/2019 | K3: 03/27/2020 | L3: 05/30/2020 | M3: 08/27/2020 | N3: 11/26/2020 | O3: 03/26/2021 | P3: 05/28/2021 | Q3: 08/27/2021 | R3: 11/26/2021 | S3: 03/08/2022 | T3: 05/24/2022 | U3: 08/24/2022 | V3: 11/22/2022 | W3: 03/31/2023 | X3: 05/26/2023 | Y3: 09/01/2023 | Z3: 11/24/2023 | AA3: 03/15/2024 | AB3: 05/15/2024 | AC3: 08/28/2024 | AD3: 11/13/2024 | AE3: 03/13/2025
C4: Cash Flows from (Used in) Operating Activities
C5: Classes of Cash Receipts from Operating Activities
A6: $ | B6: Thousands | C6: Receipts from sales of goods and rendering of services | D6: 499946521 | E6: 1051409890 | F6: 2180955096 | G6: 3010892682 | H6: 553161681 | I6: 1114612485 | J6: 2433555572 | K6: 3379204780 | L6: 518409306 | M6: 959793787 | N6: 1331735074 | O6: 2479138048 | P6: 564354116 | Q6: 1138389442 | R6: 1804787384 | S6: 2699463932 | T6: 590615817 | U6: 1247047342 | V6: 1850269728 | W6: 2536269981 | X6: 570139778 | Y6: 1123169643 | Z6: 1764345282 | AA6: 2468713330 | AB6: 586683886 | AC6: 1181107903 | AD6: 1847624821 | AE6: =+'Cash Flow(Y)'!J6 -> 2675969812
C7: Classes of Payments
A8: $ | B8: Thousands | C8: Payments to suppliers for the supply of goods and services | D8: -438726603 | E8: -839085761 | F8: -2001211821 | G8: -2584311241 | H8: -437459211 | I8: -913136286 | J8: -2148307701 | K8: -2858985685 | L8: -521486382 | M8: -846661818 | N8: -951651584 | O8: -1912132869 | P8: -535582159 | Q8: -1046219724 | R8: -1626059238 | S8: -2378302828 | T8: -666154655 | U8: -1210828900 | V8: -1754051265 | W8: -2223244434 | X8: -477564497 | Y8: -995902635 | Z8: -1581567627 | AA8: -2101701462 | AB8: -520561521 | AC8: -1078424527 | AD8: -1656997871 | AE8: =+'Cash Flow(Y)'!J8 -> -2358480207
A9: $ | B9: Thousands | C9: Payments to and on behalf of employees | D9: -55932004 | E9: -115539710 | F9: -178358982 | G9: -244912740 | H9: -64472778 | I9: -125813295 | J9: -186224407 | K9: -264320786 | L9: -69391230 | M9: -106364885 | N9: -154558796 | O9: -224369547 | P9: -54753629 | Q9: -102885882 | R9: -165559470 | S9: -242940528 | T9: -62048240 | U9: -132532754 | V9: -193373994 | W9: -268098597 | X9: -55673211 | Y9: -123176522 | Z9: -196319587 | AA9: -276681367 | AB9: -65988363 | AC9: -123800778 | AD9: -190341303 | AE9: =+'Cash Flow(Y)'!J9 -> -261619833
A10: $ | B10: Thousands | C10: Interest paid | D10: -7592027 | E10: -15390984 | F10: -23412047 | G10: -35802040 | H10: -11951370 | I10: -18444851 | J10: -38882127 | K10: -56571409 | L10: -14243448 | M10: -30278900 | N10: -41296960 | O10: 0 | P10: -8956416 | Q10: -26230827 | R10: -42455965 | S10: 0 | T10: 0 | U10: 0 | V10: 0 | W10: 0 | X10: -7036984 | Y10: 0 | Z10: 0 | AA10: 0 | AB10: 0 | AC10: 0 | AD10: 0 | AE10: =+'Cash Flow(Y)'!J10 -> 0
A11: $ | B11: Thousands | C11: Interest received | D11: 564109 | E11: 781853 | F11: 482017 | G11: 2196214 | H11: 238523 | I11: 1071200 | J11: 1543173 | K11: 2232263 | L11: 1949120 | M11: 3894840 | N11: 5302830 | O11: 0 | P11: 657275 | Q11: 1339008 | R11: 2308674 | S11: 0 | T11: 0 | U11: -59716 | V11: 0 | W11: 0 | X11: 0 | Y11: 0 | Z11: 0 | AA11: 0 | AB11: 0 | AC11: 0 | AD11: 0 | AE11: =+'Cash Flow(Y)'!J11 -> 0
A12: $ | B12: Thousands | C12: Income taxes refunded (paid) | D12: -12832251 | E12: -25634878 | F12: -44345216 | G12: -56175302 | H12: -21733902 | I12: -35100240 | J12: -56021469 | K12: -61998661 | L12: -13794351 | M12: -7966195 | N12: 10513442 | O12: 4546656 | P12: -8756267 | Q12: -518376 | R12: -11830164 | S12: -24516559 | T12: -9037320 | U12: -19781239 | V12: -37356498 | W12: -50577052 | X12: -20692042 | Y12: -338226 | Z12: -10265937 | AA12: -20756167 | AB12: -11268316 | AC12: -16598993 | AD12: -10609664 | AE12: =+'Cash Flow(Y)'!J12 -> -16209831
A13: $ | B13: Thousands | C13: Net cash flows from (used in) operating activities | D13: -14572255 | E13: 56540410 | F13: -65890953 | G13: 91887573 | H13: 17782943 | I13: 23189013 | J13: 5663041 | K13: 139560502 | L13: -98556985 | M13: -27583171 | N13: 200044006 | O13: 347182288 | P13: -43037080 | Q13: -36126359 | R13: -38808779 | S13: 53704017 | T13: -146624398 | U13: -116155267 | V13: -134512029 | W13: -5650102 | X13: 9173044 | Y13: 3752260 | Z13: -23807869 | AA13: 69574334 | AB13: -11134314 | AC13: -37716395 | AD13: -10324017 | AE13: =+'Cash Flow(Y)'!J13 -> 39659941
C14: Cash Flows from (Used in) Investing Activities
A15: $ | B15: Thousands | C15: Cash flows from loss of control of subsidiaries or other businesses | D15: 0 | E15: 0 | F15: 0 | G15: 0 | H15: 0 | I15: 0 | J15: 147166883 | K15: 147166883 | L15: 0 | M15: 0 | N15: 0 | O15: 0 | P15: 0 | Q15: 0 | R15: 0 | S15: 0 | T15: 0 | U15: 0 | V15: 0 | W15: 0 | X15: 0 | Y15: 0 | Z15: 0 | AA15: 0 | AB15: 0 | AC15: 0 | AD15: 0 | AE15: =+'Cash Flow(Y)'!J15 -> 0
A16: $ | B16: Thousands | C16: Proceeds from the sale of property, plant, and equipment | D16: 319823 | E16: 5727642 | F16: 320023 | G16: 765863 | H16: 0 | I16: 0 | J16: 0 | K16: 678 | L16: 0 | M16: 4871 | N16: 5070 | O16: 5707 | P16: 0 | Q16: 47 | R16: 2580 | S16: 7976 | T16: 1681 | U16: 5128 | V16: 9189 | W16: 14139 | X16: 1575 | Y16: 9990 | Z16: 32145 | AA16: 40929 | AB16: 9393 | AC16: 13622 | AD16: 48848 | AE16: =+'Cash Flow(Y)'!J16 -> 63971
A17: $ | B17: Thousands | C17: Purchases of property, plant, and equipment | D17: -8470630 | E17: -8715581 | F17: -14989960 | G17: -19750198 | H17: -3037704 | I17: -6530899 | J17: -12391583 | K17: -27003346 | L17: -4337936 | M17: -5272587 | N17: -6931050 | O17: -11349425 | P17: -2869083 | Q17: -5879922 | R17: -8917440 | S17: -12172900 | T17: -1672653 | U17: -3056698 | V17: -6376110 | W17: -9532958 | X17: -2836598 | Y17: -4598033 | Z17: -10852829 | AA17: -18506936 | AB17: -1579182 | AC17: -3544958 | AD17: -6405435 | AE17: =+'Cash Flow(Y)'!J17 -> -11608131
A18: $ | B18: Thousands | C18: Purchases of intangible assets | D18: -1926902 | E18: -4425714 | F18: -5333223 | G18: -7543102 | H18: -3076386 | I18: -4600378 | J18: -7248214 | K18: -14236670 | L18: -2899766 | M18: -4542630 | N18: -9028099 | O18: -12918913 | P18: -3296243 | Q18: -8142667 | R18: -12232142 | S18: -19295203 | T18: -3810225 | U18: -9954624 | V18: -17777121 | W18: -24265919 | X18: -5522318 | Y18: -15300971 | Z18: -22212870 | AA18: -31485216 | AB18: -6868725 | AC18: -12710172 | AD18: -19759274 | AE18: =+'Cash Flow(Y)'!J18 -> -27439052
A19: $ | B19: Thousands | C19: Purchases of other long-term assets | D19: 0 | E19: -8277080 | F19: -11345530 | G19: -15921729 | H19: -695259 | I19: -3018048 | J19: -5400147 | K19: -10210243 | L19: -4365678 | M19: -5033657 | N19: -5468901 | O19: -6645889 | P19: -385732 | Q19: -1713156 | R19: -4052204 | S19: -5030405 | T19: -695421 | U19: -2075202 | V19: -2906211 | W19: -3326882 | X19: 0 | Y19: -2032052 | Z19: -4810537 | AA19: -7847270 | AB19: -2480837 | AC19: -3942756 | AD19: -4445049 | AE19: =+'Cash Flow(Y)'!J19 -> -5885980
A20: $ | B20: Thousands | C20: Dividends received | D20: -1946371 | E20: 15859760 | F20: 34876597 | G20: 34876597 | H20: 0 | I20: 7388777 | J20: 7447720 | K20: 7447720 | L20: 0 | M20: 1388392 | N20: 1388392 | O20: 1388392 | P20: 0 | Q20: 0 | R20: 0 | S20: 0 | T20: 0 | U20: 460153 | V20: 460154 | W20: 460154 | X20: 0 | Y20: 0 | Z20: 0 | AA20: 0 | AB20: 0 | AC20: 0 | AD20: 7072714 | AE20: =+'Cash Flow(Y)'!J20 -> 14273987
A21: $ | B21: Thousands | C21: Interest received | D21: 0 | E21: 0 | F21: 0 | G21: 0 | H21: 0 | I21: 0 | J21: 0 | K21: 0 | L21: 0 | M21: 0 | N21: 0 | O21: 2547692 | P21: 0 | S21: 2660361 | T21: 784357 | U21: 1258198 | V21: 2031985 | W21: 2657470 | X21: 830043 | Y21: 3426631 | Z21: 5168703 | AA21: 9836318 | AB21: 1822377 | AC21: 3188920 | AD21: 4171804 | AE21: =+'Cash Flow(Y)'!J21 -> 7681003
A22: $ | B22: Thousands | C22: Other cash inflows (outflows) | D22: 0 | E22: 0 | F22: 6421766 | G22: 6146154 | H22: 0 | I22: 0 | J22: 0 | K22: 0 | L22: 6463680 | M22: 6463680 | N22: 6463680 | O22: 6463680 | P22: 0 | Q22: 0 | R22: 0 | S22: 0 | T22: 0 | U22: 0 | V22: 0 | W22: 0 | X22: 0 | Y22: 109483649 | Z22: 114420249 | AA22: 113254609 | AB22: 18668780 | AC22: 17993560 | AD22: 18000000 | AE22: =+'Cash Flow(Y)'!J22 -> 18000000
A23: $ | B23: Thousands | C23: Net cash flows from (used in) investing activities | D23: -12024080 | E23: 169027 | F23: 9949673 | G23: -1426415 | H23: -6809349 | I23: -6760548 | J23: 129574659 | K23: 103165022 | L23: -5139700 | M23: -6991931 | N23: -13570908 | O23: -20508756 | P23: -6551058 | Q23: -15735698 | R23: -25199206 | S23: -33830171 | T23: -5392261 | U23: -13363045 | V23: -24558114 | W23: -33993996 | X23: -7527298 | Y23: 90989214 | Z23: 81744861 | AA23: 65292434 | AB23: 9571806 | AC23: 998216 | AD23: -1316392 | AE23: =+'Cash Flow(Y)'!J23 -> -4914202
C24: Cash Flows from (Used in) Financing Activities
A25: $ | B25: Thousands | C25: Proceeds from long-term borrowings | D25: 38937358 | E25: 44497544 | F25: 91163667 | G25: 50694312 | H25: 9586965 | I25: 8401186 | J25: 0 | K25: 0 | L25: 0 | M25: 11599500 | N25: 4381200 | O25: 3356185 | P25: 58292520 | Q25: 56409420 | R25: 61928638 | S25: 61214263 | T25: 0 | U25: 16000000 | V25: 32621930 | W25: 32621930 | X25: 0 | Y25: 0 | Z25: 0 | AA25: 0 | AB25: 0 | AC25: 0 | AD25: 0 | AE25: =+'Cash Flow(Y)'!J25 -> 105816000
A26: $ | B26: Thousands | C26: Proceeds from short-term borrowings | D26: 45094226 | E26: 97558334 | F26: 49622301 | G26: 230907532 | H26: 73449936 | I26: 133773806 | J26: 117615526 | K26: 202248217 | L26: 98286540 | M26: 176885865 | N26: 192565241 | O26: 191715606 | P26: 22734597 | Q26: 37292694 | R26: 62020071 | S26: 87730860 | T26: 33936108 | U26: 48321800 | V26: 71886077 | W26: 104335555 | X26: 35039307 | Y26: 70851192 | Z26: 123138527 | AA26: 149009903 | AB26: 40250032 | AC26: 67579611 | AD26: 110153361 | AE26: =+'Cash Flow(Y)'!J26 -> 225061762
A27: $ | B27: Thousands | C27: Total proceeds from borrowings | D27: 84031584 | E27: 142055878 | F27: 140785968 | G27: 281601844 | H27: 83036901 | I27: 142174992 | J27: 117615526 | K27: 202248217 | L27: 98286540 | M27: 188485365 | N27: 196946441 | O27: 195071791 | P27: 81027117 | Q27: 93702114 | R27: 123948709 | S27: 148945123 | T27: 33936108 | U27: 64321800 | V27: 104508007 | W27: 136957485 | X27: 35039307 | Y27: 70851192 | Z27: 123138527 | AA27: 149009903 | AB27: 40250032 | AC27: 67579611 | AD27: 110153361 | AE27: =+'Cash Flow(Y)'!J27 -> 330877762
A28: $ | B28: Thousands | C28: Repayments of borrowings | D28: -75275120 | E28: -154366843 | F28: -71946395 | G28: -302378034 | H28: -41094308 | I28: -120007071 | J28: -162677869 | K28: -276375438 | L28: -27980343 | M28: -33686602 | N28: -43683619 | O28: -54227954 | P28: -51415289 | Q28: -66092359 | R28: -114313324 | S28: -271326802 | T28: -29474142 | U28: -28768623 | V28: -89020542 | W28: -131286316 | X28: -22091408 | Y28: -102160040 | Z28: -129762708 | AA28: -184542893 | AB28: -11892640 | AC28: -56033725 | AD28: -84161026 | AE28: =+'Cash Flow(Y)'!J28 -> -251351531
A29: $ | B29: Thousands | C29: Payments of finance lease liabilities | D29: -3430667 | E29: -6492357 | F29: -23008745 | G29: -23762824 | H29: -6914493 | I29: -17785132 | J29: -25393836 | K29: -36749938 | L29: -9825445 | M29: -16371271 | N29: -23622027 | O29: -31988365 | P29: -9287395 | Q29: -19173028 | R29: -32252812 | S29: -43682238 | T29: -13881805 | U29: -29759065 | V29: -42067023 | W29: -56985918 | X29: -14799120 | Y29: -28236578 | Z29: -42738706 | AA29: -58653595 | AB29: -18568799 | AC29: -35323923 | AD29: -48374507 | AE29: =+'Cash Flow(Y)'!J29 -> -87002106
A30: $ | B30: Thousands | C30: Dividends paid | D30: 0 | E30: -23554368 | F30: -23546033 | G30: -23546029 | H30: 0 | I30: -22533662 | J30: -22524311 | K30: -22524311 | L30: 0 | M30: -22010179 | N30: -21981213 | O30: -21981213 | P30: 0 | Q30: 0 | R30: 0 | S30: -27104732 | T30: 0 | U30: -9680262 | V30: -9680377 | W30: -10607945 | X30: 49 | Y30: -38720997 | Z30: -38721046 | AA30: -38721522 | AB30: 0 | AC30: 0 | AD30: 0 | AE30: =+'Cash Flow(Y)'!J30 -> 0
A31: $ | B31: Thousands | C31: Interest paid | D31: 0 | E31: 0 | F31: 0 | G31: 0 | H31: 0 | I31: 0 | J31: 0 | K31: 0 | L31: 0 | M31: 0 | N31: 0 | O31: -36073846 | P31: 0 | S31: -44692922 | T31: -7878919 | U31: -19337916 | V31: -29458425 | W31: -39793648 | X31: -9577549 | Y31: -22347445 | Z31: -32310280 | AA31: -45832722 | AB31: -10505279 | AC31: -23455384 | AD31: -38915236 | AE31: =+'Cash Flow(Y)'!J31 -> -55652966
A32: $ | B32: Thousands | C32: Net cash flows from (used in) financing activities | D32: 5325797 | E32: -42357690 | F32: 22284795 | G32: -68085043 | H32: 35028100 | I32: -18150873 | J32: -92980490 | K32: -133401470 | L32: 60480752 | M32: 116417313 | N32: 107659582 | O32: 50800413 | P32: 20324433 | Q32: 8436727 | R32: -22617427 | S32: -237861571 | T32: -17298758 | U32: -23224066 | V32: -65718360 | W32: -101716342 | X32: -11428721 | Y32: -120613868 | Z32: -120394213 | AA32: -178740829 | AB32: -716686 | AC32: -47233421 | AD32: -61297408 | AE32: =+'Cash Flow(Y)'!J32 -> -63128841
A33: $ | B33: Thousands | C33: Net increase (decrease) in cash and cash equivalents, before the effect of exchange rate changes | D33: -21270538 | E33: 14351747 | F33: -33656486 | G33: 22376115 | H33: 46001694 | I33: -1722408 | J33: 42257210 | K33: 109324054 | L33: -43215933 | M33: 81842211 | N33: 294132680 | O33: 377473945 | P33: -29263705 | Q33: -43425330 | R33: -86625412 | S33: -217987725 | T33: -169315417 | U33: -152742378 | V33: -224788503 | W33: -141360440 | X33: -9782975 | Y33: -25872394 | Z33: -62457221 | AA33: -43874061 | AB33: -2279194 | AC33: -83951600 | AD33: -72937817 | AE33: =+'Cash Flow(Y)'!J33 -> -28383102
C34: Effects of Exchange Rate Changes on Cash and Cash Equivalents
A35: $ | B35: Thousands | C35: Effects of exchange rate changes on cash and cash equivalents | D35: -839865 | E35: 1354871 | F35: 1628993 | G35: 3053123 | H35: -270923 | I35: 33862 | J35: 1824772 | K35: 4139042 | L35: 737955 | M35: 2345788 | N35: -1215186 | O35: -7625885 | P35: -1952016 | Q35: -4060017 | R35: -183574 | S35: 9863055 | T35: -152867 | U35: 22007234 | V35: 20604024 | W35: 7999854 | X35: -9028232 | Y35: -2575813 | Z35: 6438333 | AA35: 7168575 | AB35: 12754699 | AC35: 3894755 | AD35: 2771039 | AE35: =+'Cash Flow(Y)'!J35 -> 12949185
A36: $ | B36: Thousands | C36: Net increase (decrease) in cash and cash equivalents | D36: -22110403 | E36: 15706618 | F36: -32027492 | G36: 25429238 | H36: 45730771 | I36: -1688546 | J36: 44081982 | K36: 113463096 | L36: -42477978 | M36: 84187999 | N36: 292917494 | O36: 369848060 | P36: -31215721 | Q36: -47485347 | R36: -86808986 | S36: -208124670 | T36: -169468284 | U36: -130735144 | V36: -204184479 | W36: -133360586 | X36: -18811207 | Y36: -28448207 | Z36: -56018888 | AA36: -36705486 | AB36: 10475505 | AC36: -80056845 | AD36: -70166778 | AE36: =+'Cash Flow(Y)'!J36 -> -15433917
A37: $ | B37: Thousands | C37: Cash and cash equivalents at the beginning of the period | D37: 145643160 | E37: 145643161 | F37: 145643160 | G37: 151821227 | H37: 171072396 | I37: 171072399 | J37: 177250463 | K37: 177250465 | L37: 290705404 | M37: 290705404 | N37: 290705404 | O37: 295774982 | P37: 659437654 | Q37: 659437654 | R37: 659437654 | S37: 665623042 | T37: 457498370 | U37: 457498370 | V37: 457498372 | W37: 457498373 | X37: 324137789 | Y37: 324137789 | Z37: 324137788 | AA37: 324137787 | AB37: 287432302 | AC37: 287432302 | AD37: 287432301 | AE37: =+'Cash Flow(Y)'!J37 -> 287432301
A38: $ | B38: Thousands | C38: Decrease in cash and cash equivalents due to sale of subsidiaries | D38: 0 | E38: 0 | F38: 0 | G38: 0 | H38: 0 | I38: 0 | J38: -8157 | K38: -8157 | L38: 0 | M38: 0 | N38: 0 | O38: 0 | P38: 0 | Q38: 0 | R38: 0 | S38: 0 | T38: 0 | U38: 0 | V38: 0 | W38: 0 | X38: 0 | Y38: 0 | Z38: 0 | AA38: 0 | AB38: 0 | AC38: 0 | AD38: 0 | AE38: =+'Cash Flow(Y)'!J38 -> 0
A39: $ | B39: Thousands | C39: Cash and cash equivalents at the end of the period | D39: 123532757 | E39: 161349779 | F39: 113615668 | G39: 177250465 | H39: 216803167 | I39: 169383853 | J39: 221324288 | K39: 290705404 | L39: 248227426 | M39: 374893403 | N39: 583622898 | O39: 665623042 | P39: 628221933 | Q39: 611952307 | R39: 572628668 | S39: 457498372 | T39: 288030086 | U39: 326763226 | V39: 253313893 | W39: 324137787 | X39: 305326582 | Y39: 295689582 | Z39: 268118900 | AA39: 287432301 | AB39: 297907807 | AC39: 207375457 | AD39: 217265523 | AE39: =+'Cash Flow(Y)'!J39 -> 271998384

Sheet Cash Flow(Y)
A1: Currency | B1: Unit | C1: Description | D1: FY 18 | E1: FY 19 | F1: FY 20 | G1: FY 21 | H1: FY 22 | I1: FY 23 | J1: FY 24
C2: Period Ended On (MM/DD/YYYY) | D2: 12/31/2018 | E2: 12/31/2019 | F2: 12/31/2020 | G2: 12/31/2021 | H2: 12/31/2022 | I2: 12/31/2023 | J2: 12/31/2024
C3: Reported Date (MM/DD/YYYY) | D3: 03/27/2019 | E3: 03/27/2020 | F3: 03/26/2021 | G3: 03/08/2022 | H3: 03/31/2023 | I3: 03/15/2024 | J3: 03/13/2025
C4: Cash Flows from (Used in) Operating Activities
C5: Classes of Cash Receipts from Operating Activities
A6: $ | B6: Thousands | C6: Receipts from sales of goods and rendering of services | D6: 3010892682 | E6: 3379204780 | F6: 2479138048 | G6: 2699463932 | H6: 2536269981 | I6: =+'[1]Flujo Directo'!E13 -> 2468713330 | J6: =+'[1]Flujo Directo'!C13 -> 2675969812
C7: Classes of Payments
A8: $ | B8: Thousands | C8: Payments to suppliers for the supply of goods and services | D8: -2584311241 | E8: -2858985685 | F8: -1912132869 | G8: -2378302828 | H8: -2223244434 | I8: =+'[1]Flujo Directo'!E19 -> -2101701462 | J8: =+'[1]Flujo Directo'!C19 -> -2358480207
A9: $ | B9: Thousands | C9: Payments to and on behalf of employees | D9: -244912740 | E9: -264320786 | F9: -224369547 | G9: -242940528 | H9: -268098597 | I9: =+'[1]Flujo Directo'!E21 -> -276681367 | J9: =+'[1]Flujo Directo'!C21 -> -261619833
A10: $ | B10: Thousands | C10: Interest paid | D10: -35802040 | E10: -56571409 | F10: 0 | G10: 0 | H10: 0 | I10: 0 | J10: 0
A11: $ | B11: Thousands | C11: Interest received | D11: 2196214 | E11: 2232263 | F11: 0 | G11: 0 | H11: 0 | I11: 0 | J11: 0
A12: $ | B12: Thousands | C12: Income taxes refunded (paid) | D12: -56175302 | E12: -61998661 | F12: 4546656 | G12: -24516559 | H12: -50577052 | I12: =+'[1]Flujo Directo'!E27 -> -20756167 | J12: =+'[1]Flujo Directo'!C27 -> -16209831
A13: $ | B13: Thousands | C13: Net cash flows from (used in) operating activities | D13: 91887573 | E13: 139560502 | F13: 347182288 | G13: 53704017 | H13: -5650102 | I13: =+I6+I8+I9+I12 -> 69574334 | J13: =+J6+J8+J9+J12 -> 39659941
C14: Cash Flows from (Used in) Investing Activities
A15: $ | B15: Thousands | C15: Cash flows from loss of control of subsidiaries or other businesses | D15: 0 | E15: 147166883 | F15: 0 | G15: 0 | H15: 0 | I15: 0 | J15: 0
A16: $ | B16: Thousands | C16: Proceeds from the sale of property, plant, and equipment | D16: 765863 | E16: 678 | F16: 5707 | G16: 7976 | H16: 14139 | I16: =+'[1]Flujo Directo'!E43 -> 40929 | J16: =+'[1]Flujo Directo'!C43 -> 63971
A17: $ | B17: Thousands | C17: Purchases of property, plant, and equipment | D17: -19750198 | E17: -27003346 | F17: -11349425 | G17: -12172900 | H17: -9532958 | I17: =+'[1]Flujo Directo'!E44 -> -18506936 | J17: =+'[1]Flujo Directo'!C44 -> -11608131
A18: $ | B18: Thousands | C18: Purchases of intangible assets | D18: -7543102 | E18: -14236670 | F18: -12918913 | G18: -19295203 | H18: -24265919 | I18: =+'[1]Flujo Directo'!E46 -> -31485216 | J18: =+'[1]Flujo Directo'!C46 -> -27439052
A19: $ | B19: Thousands | C19: Purchases of other long-term assets | D19: -15921729 | E19: -10210243 | F19: -6645889 | G19: -5030405 | H19: -3326882 | I19: =+'[1]Flujo Directo'!E47 -> -7847270 | J19: =+'[1]Flujo Directo'!C47 -> -5885980
A20: $ | B20: Thousands | C20: Dividends received | D20: 34876597 | E20: 7447720 | F20: 1388392 | G20: 0 | H20: 460154 | I20: =+'[1]Flujo Directo'!E50 -> 0 | J20: =+'[1]Flujo Directo'!C50 -> 14273987
A21: $ | B21: Thousands | C21: Interest received | D21: 0 | E21: 0 | F21: 2547692 | G21: 2660361 | H21: 2657470 | I21: =+'[1]Flujo Directo'!E51 -> 9836318 | J21: =+'[1]Flujo Directo'!C51 -> 7681003
A22: $ | B22: Thousands | C22: Other cash inflows (outflows) | D22: 6146154 | E22: 0 | F22: 6463680 | G22: 0 | H22: 0 | I22: =+'[1]Flujo Directo'!E53 -> 113254609 | J22: =+'[1]Flujo Directo'!C53 -> 18000000
A23: $ | B23: Thousands | C23: Net cash flows from (used in) investing activities | D23: -1426415 | E23: 103165022 | F23: -20508756 | G23: -33830171 | H23: -33993996 | I23: =+SUM(I15:I22) -> 65292434 | J23: =+SUM(J15:J22) -> -4914202
C24: Cash Flows from (Used in) Financing Activities
A25: $ | B25: Thousands | C25: Proceeds from long-term borrowings | D25: 50694312 | E25: 0 | F25: 3356185 | G25: 61214263 | H25: 32621930 | I25: =+'[1]Flujo Directo'!E64 -> 0 | J25: =+'[1]Flujo Directo'!C64 -> 105816000
A26: $ | B26: Thousands | C26: Proceeds from short-term borrowings | D26: 230907532 | E26: 202248217 | F26: 191715606 | G26: 87730860 | H26: 104335555 | I26: =+'[1]Flujo Directo'!E65 -> 149009903 | J26: =+'[1]Flujo Directo'!C65 -> 225061762
A27: $ | B27: Thousands | C27: Total proceeds from borrowings | D27: 281601844 | E27: 202248217 | F27: 195071791 | G27: 148945123 | H27: 136957485 | I27: =+I25+I26 -> 149009903 | J27: =+J25+J26 -> 330877762
A28: $ | B28: Thousands | C28: Repayments of borrowings | D28: -302378034 | E28: -276375438 | F28: -54227954 | G28: -271326802 | H28: -131286316 | I28: =+'[1]Flujo Directo'!E70 -> -184542893 | J28: =+'[1]Flujo Directo'!C70 -> -251351531
